0.1000000000
0.0000000000
0.0000000000
-0.1000000000
354000.0500000000
3002999.9500000002
