0.1000000000
0.0000000000
0.0000000000
-0.1000000000
353000.0500000000
3001999.9500000002
