0.1000000000
0.0000000000
0.0000000000
-0.1000000000
352000.0500000000
3007999.9500000002
