0.1000000000
0.0000000000
0.0000000000
-0.1000000000
351000.0500000000
3006999.9500000002
