0.1000000000
0.0000000000
0.0000000000
-0.1000000000
349000.0500000000
3014999.9500000002
