0.1000000000
0.0000000000
0.0000000000
-0.1000000000
348000.0500000000
3016999.9500000002
