0.1000000000
0.0000000000
0.0000000000
-0.1000000000
347000.0500000000
3019999.9500000002
