0.1000000000
0.0000000000
0.0000000000
-0.1000000000
346000.0500000000
3020999.9500000002
