0.1000000000
0.0000000000
0.0000000000
-0.1000000000
345000.0500000000
3021999.9500000002
