0.1000000000
0.0000000000
0.0000000000
-0.1000000000
344000.0500000000
3023999.9500000002
