0.1000000000
0.0000000000
0.0000000000
-0.1000000000
343000.0500000000
3024999.9500000002
