0.1000000000
0.0000000000
0.0000000000
-0.1000000000
342000.0500000000
3026999.9500000002
