0.1000000000
0.0000000000
0.0000000000
-0.1000000000
341000.0500000000
3027999.9500000002
