0.1000000000
0.0000000000
0.0000000000
-0.1000000000
340000.0500000000
3029999.9500000002
