0.1000000000
0.0000000000
0.0000000000
-0.1000000000
339000.0500000000
3030999.9500000002
