0.1000000000
0.0000000000
0.0000000000
-0.1000000000
338000.0500000000
3031999.9500000002
