0.0500000000
0.0000000000
0.0000000000
-0.0500000000
338000.0250000000
3026999.9750000001
