0.1000000000
0.0000000000
0.0000000000
-0.1000000000
337000.0500000000
3032999.9500000002
