0.1000000000
0.0000000000
0.0000000000
-0.1000000000
336000.0500000000
3034999.9500000002
