0.0500000000
0.0000000000
0.0000000000
-0.0500000000
336000.0250000000
3029999.9750000001
