0.0500000000
0.0000000000
0.0000000000
-0.0500000000
335000.0250000000
3033999.9750000001
