0.1000000000
0.0000000000
0.0000000000
-0.1000000000
333000.0500000000
3039999.9500000002
