0.1000000000
0.0000000000
0.0000000000
-0.1000000000
332000.0500000000
3041999.9500000002
