0.1000000000
0.0000000000
0.0000000000
-0.1000000000
331000.0500000000
3043999.9500000002
