0.1000000000
0.0000000000
0.0000000000
-0.1000000000
330000.0500000000
3067999.9500000002
