0.1000000000
0.0000000000
0.0000000000
-0.1000000000
329000.0500000000
3060999.9500000002
