0.1000000000
0.0000000000
0.0000000000
-0.1000000000
328000.0500000000
3070999.9500000002
