0.1000000000
0.0000000000
0.0000000000
-0.1000000000
327000.0500000000
3071999.9500000002
