0.0500000000
0.0000000000
0.0000000000
-0.0500000000
327000.0250000000
3061999.9750000001
