0.1000000000
0.0000000000
0.0000000000
-0.1000000000
326000.0500000000
3073999.9500000002
