0.1000000000
0.0000000000
0.0000000000
-0.1000000000
324000.0500000000
3076999.9500000002
