0.1000000000
0.0000000000
0.0000000000
-0.1000000000
323000.0500000000
3077999.9500000002
