0.0500000000
0.0000000000
0.0000000000
-0.0500000000
323000.0250000000
3075999.9750000001
