0.1000000000
0.0000000000
0.0000000000
-0.1000000000
321000.0500000000
3095999.9500000002
