0.1000000000
0.0000000000
0.0000000000
-0.1000000000
320000.0500000000
3090999.9500000002
