0.1000000000
0.0000000000
0.0000000000
-0.1000000000
319000.0500000000
3092999.9500000002
