0.1000000000
0.0000000000
0.0000000000
-0.1000000000
318000.0500000000
3087999.9500000002
