0.1000000000
0.0000000000
0.0000000000
-0.1000000000
317000.0500000000
3088999.9500000002
