0.1000000000
0.0000000000
0.0000000000
-0.1000000000
396000.0500000000
2926999.9500000002
