0.1000000000
0.0000000000
0.0000000000
-0.1000000000
392000.0500000000
2924999.9500000002
