0.1000000000
0.0000000000
0.0000000000
-0.1000000000
391000.0500000000
2925999.9500000002
