0.1000000000
0.0000000000
0.0000000000
-0.1000000000
387000.0500000000
2927999.9500000002
