0.1000000000
0.0000000000
0.0000000000
-0.1000000000
385000.0500000000
2928999.9500000002
