0.1000000000
0.0000000000
0.0000000000
-0.1000000000
383000.0500000000
2930999.9500000002
