0.1000000000
0.0000000000
0.0000000000
-0.1000000000
382000.0500000000
2932999.9500000002
