0.0500000000
0.0000000000
0.0000000000
-0.0500000000
382000.0250000000
2929999.9750000001
