0.1000000000
0.0000000000
0.0000000000
-0.1000000000
380000.0500000000
2941999.9500000002
