0.1000000000
0.0000000000
0.0000000000
-0.1000000000
379000.0500000000
2947999.9500000002
