0.1000000000
0.0000000000
0.0000000000
-0.1000000000
378000.0500000000
2951999.9500000002
