0.1000000000
0.0000000000
0.0000000000
-0.1000000000
378000.0500000000
2949999.9500000002
